BEGIN:VCALENDAR
VERSION:2.0
PRODID:-//Confidential Computing Consortium - ECPv6.15.20//NONSGML v1.0//EN
CALSCALE:GREGORIAN
METHOD:PUBLISH
X-WR-CALNAME:Confidential Computing Consortium
X-ORIGINAL-URL:https://confidentialcomputing.io
X-WR-CALDESC:Events for Confidential Computing Consortium
REFRESH-INTERVAL;VALUE=DURATION:PT1H
X-Robots-Tag:noindex
X-PUBLISHED-TTL:PT1H
BEGIN:VTIMEZONE
TZID:America/Los_Angeles
BEGIN:DAYLIGHT
TZOFFSETFROM:-0800
TZOFFSETTO:-0700
TZNAME:PDT
DTSTART:20240310T100000
END:DAYLIGHT
BEGIN:STANDARD
TZOFFSETFROM:-0700
TZOFFSETTO:-0800
TZNAME:PST
DTSTART:20241103T090000
END:STANDARD
BEGIN:DAYLIGHT
TZOFFSETFROM:-0800
TZOFFSETTO:-0700
TZNAME:PDT
DTSTART:20250309T100000
END:DAYLIGHT
BEGIN:STANDARD
TZOFFSETFROM:-0700
TZOFFSETTO:-0800
TZNAME:PST
DTSTART:20251102T090000
END:STANDARD
BEGIN:DAYLIGHT
TZOFFSETFROM:-0800
TZOFFSETTO:-0700
TZNAME:PDT
DTSTART:20260308T100000
END:DAYLIGHT
BEGIN:STANDARD
TZOFFSETFROM:-0700
TZOFFSETTO:-0800
TZNAME:PST
DTSTART:20261101T090000
END:STANDARD
END:VTIMEZONE
BEGIN:VTIMEZONE
TZID:UTC
BEGIN:STANDARD
TZOFFSETFROM:+0000
TZOFFSETTO:+0000
TZNAME:UTC
DTSTART:20220101T000000
END:STANDARD
END:VTIMEZONE
BEGIN:VEVENT
DTSTART;VALUE=DATE:20250617
DTEND;VALUE=DATE:20250619
DTSTAMP:20260422T023205
CREATED:20250513T080853Z
LAST-MODIFIED:20250513T080853Z
UID:10000031-1750118400-1750291199@confidentialcomputing.io
SUMMARY:Confidential Computing Summit 2025
DESCRIPTION:The third annual Confidential Computing Summit is the premier gathering for enterprise AI\, data\, and security leaders shaping the future of secure AI deployment. \nWhether you’re a CTO\, CIO\, VP of engineering & IT\, or enterprise/security architect shaping large-scale AI systems\, building privacy-preserving data infrastructure\, or developing cryptographic frameworks\, this is where cutting-edge innovation meets real-world application. \nCCC is a sponsor of the 2025 event.
URL:https://confidentialcomputing.io/event/confidential-computing-summit-2025/
LOCATION:San Francisco Marriott Marquis\, United States
ATTACH;FMTTYPE=image/png:https://confidentialcomputing.io/wp-content/uploads/sites/10/2025/05/Screenshot-2025-05-13-100312.png
END:VEVENT
BEGIN:VEVENT
DTSTART;VALUE=DATE:20230629
DTEND;VALUE=DATE:20230630
DTSTAMP:20260422T023205
CREATED:20230314T205938Z
LAST-MODIFIED:20230314T205938Z
UID:10000001-1687996800-1688083199@confidentialcomputing.io
SUMMARY:Confidential Computing Summit 2023
DESCRIPTION:The Confidential Computing Summit brings together experts\, innovators\, cloud providers\, software and hardware providers\, and user organizations from all industries to accelerate key initiatives in confidential computing.
URL:https://confidentialcomputing.io/event/confidential-computing-summit-2023/
LOCATION:San Francisco Marriott Marquis\, United States
ATTACH;FMTTYPE=image/png:https://confidentialcomputing.io/wp-content/uploads/sites/10/2023/03/Screen-Shot-2023-03-14-at-9.58.10-AM.png
END:VEVENT
END:VCALENDAR