BEGIN:VCALENDAR
VERSION:2.0
PRODID:-//Confidential Computing Consortium - ECPv6.15.20//NONSGML v1.0//EN
CALSCALE:GREGORIAN
METHOD:PUBLISH
X-ORIGINAL-URL:https://confidentialcomputing.io
X-WR-CALDESC:Events for Confidential Computing Consortium
REFRESH-INTERVAL;VALUE=DURATION:PT1H
X-Robots-Tag:noindex
X-PUBLISHED-TTL:PT1H
BEGIN:VTIMEZONE
TZID:America/Los_Angeles
BEGIN:DAYLIGHT
TZOFFSETFROM:-0800
TZOFFSETTO:-0700
TZNAME:PDT
DTSTART:20230312T100000
END:DAYLIGHT
BEGIN:STANDARD
TZOFFSETFROM:-0700
TZOFFSETTO:-0800
TZNAME:PST
DTSTART:20231105T090000
END:STANDARD
BEGIN:DAYLIGHT
TZOFFSETFROM:-0800
TZOFFSETTO:-0700
TZNAME:PDT
DTSTART:20240310T100000
END:DAYLIGHT
BEGIN:STANDARD
TZOFFSETFROM:-0700
TZOFFSETTO:-0800
TZNAME:PST
DTSTART:20241103T090000
END:STANDARD
BEGIN:DAYLIGHT
TZOFFSETFROM:-0800
TZOFFSETTO:-0700
TZNAME:PDT
DTSTART:20250309T100000
END:DAYLIGHT
BEGIN:STANDARD
TZOFFSETFROM:-0700
TZOFFSETTO:-0800
TZNAME:PST
DTSTART:20251102T090000
END:STANDARD
END:VTIMEZONE
BEGIN:VEVENT
DTSTART;TZID=America/Los_Angeles:20240506T080000
DTEND;TZID=America/Los_Angeles:20240509T170000
DTSTAMP:20260421T072058
CREATED:20240304T211101Z
LAST-MODIFIED:20240326T203931Z
UID:10000011-1714982400-1715274000@confidentialcomputing.io
SUMMARY:RSAC Conference
DESCRIPTION:CCC Members: Unlock Exclusive RSAC 2024 Savings!\nJoin us May 6 – 9 at RSAC 2024\, the ultimate cybersecurity destination. Immerse yourself in expert-led sessions\, connect with industry leaders\, and discover the latest trends and best practices. Elevate your cybersecurity game and be a part of shaping the industry’s future. Don’t miss this opportunity to advance your skills and network with the best in the field. \nLearn more and register! \n 
URL:https://confidentialcomputing.io/event/rsa-conference/
LOCATION:Moscone Center
END:VEVENT
END:VCALENDAR