BEGIN:VCALENDAR
VERSION:2.0
PRODID:-//Confidential Computing Consortium - ECPv6.15.20//NONSGML v1.0//EN
CALSCALE:GREGORIAN
METHOD:PUBLISH
X-ORIGINAL-URL:https://confidentialcomputing.io
X-WR-CALDESC:Events for Confidential Computing Consortium
REFRESH-INTERVAL;VALUE=DURATION:PT1H
X-Robots-Tag:noindex
X-PUBLISHED-TTL:PT1H
BEGIN:VTIMEZONE
TZID:America/Denver
BEGIN:DAYLIGHT
TZOFFSETFROM:-0700
TZOFFSETTO:-0600
TZNAME:MDT
DTSTART:20240310T090000
END:DAYLIGHT
BEGIN:STANDARD
TZOFFSETFROM:-0600
TZOFFSETTO:-0700
TZNAME:MST
DTSTART:20241103T080000
END:STANDARD
BEGIN:DAYLIGHT
TZOFFSETFROM:-0700
TZOFFSETTO:-0600
TZNAME:MDT
DTSTART:20250309T090000
END:DAYLIGHT
BEGIN:STANDARD
TZOFFSETFROM:-0600
TZOFFSETTO:-0700
TZNAME:MST
DTSTART:20251102T080000
END:STANDARD
BEGIN:DAYLIGHT
TZOFFSETFROM:-0700
TZOFFSETTO:-0600
TZNAME:MDT
DTSTART:20260308T090000
END:DAYLIGHT
BEGIN:STANDARD
TZOFFSETFROM:-0600
TZOFFSETTO:-0700
TZNAME:MST
DTSTART:20261101T080000
END:STANDARD
END:VTIMEZONE
BEGIN:VEVENT
DTSTART;TZID=America/Denver:20250626T133000
DTEND;TZID=America/Denver:20250626T170000
DTSTAMP:20260421T212007
CREATED:20250513T081318Z
LAST-MODIFIED:20250513T081318Z
UID:10000032-1750944600-1750957200@confidentialcomputing.io
SUMMARY:Confidential Computing Consortium Mini-Summit
DESCRIPTION:Taking place alongside Open Source Summit North America\, the topic of this mini-summit will be “Securing data in use and accelerating the adoption of confidential computing through open collaboration.” \nRegistration is required for Open Source Summit North America to attend. Simply add on the “Confidential Computing Mini Summit” during the registration process.
URL:https://confidentialcomputing.io/event/confidential-computing-consortium-mini-summit/
LOCATION:Colorado Convention Center\, Denver\, CO\, United States
ATTACH;FMTTYPE=image/svg+xml:https://confidentialcomputing.io/wp-content/uploads/sites/10/2025/02/CCC_NewBranding_color.svg
END:VEVENT
END:VCALENDAR