BEGIN:VCALENDAR
VERSION:2.0
PRODID:-//Confidential Computing Consortium - ECPv6.15.20//NONSGML v1.0//EN
CALSCALE:GREGORIAN
METHOD:PUBLISH
X-ORIGINAL-URL:https://confidentialcomputing.io
X-WR-CALDESC:Events for Confidential Computing Consortium
REFRESH-INTERVAL;VALUE=DURATION:PT1H
X-Robots-Tag:noindex
X-PUBLISHED-TTL:PT1H
BEGIN:VTIMEZONE
TZID:America/Los_Angeles
BEGIN:DAYLIGHT
TZOFFSETFROM:-0800
TZOFFSETTO:-0700
TZNAME:PDT
DTSTART:20250309T100000
END:DAYLIGHT
BEGIN:STANDARD
TZOFFSETFROM:-0700
TZOFFSETTO:-0800
TZNAME:PST
DTSTART:20251102T090000
END:STANDARD
BEGIN:DAYLIGHT
TZOFFSETFROM:-0800
TZOFFSETTO:-0700
TZNAME:PDT
DTSTART:20260308T100000
END:DAYLIGHT
BEGIN:STANDARD
TZOFFSETFROM:-0700
TZOFFSETTO:-0800
TZNAME:PST
DTSTART:20261101T090000
END:STANDARD
BEGIN:DAYLIGHT
TZOFFSETFROM:-0800
TZOFFSETTO:-0700
TZNAME:PDT
DTSTART:20270314T100000
END:DAYLIGHT
BEGIN:STANDARD
TZOFFSETFROM:-0700
TZOFFSETTO:-0800
TZNAME:PST
DTSTART:20271107T090000
END:STANDARD
END:VTIMEZONE
BEGIN:VEVENT
DTSTART;VALUE=DATE:20260312
DTEND;VALUE=DATE:20260313
DTSTAMP:20260422T060205
CREATED:20260303T210513Z
LAST-MODIFIED:20260303T210608Z
UID:10000035-1773273600-1773359999@confidentialcomputing.io
SUMMARY:Open Confidential Computing Conference 2026
DESCRIPTION:Join the Confidential Computing Consortium (CCC) in Berlin or online for the Open Confidential Computing Conference (OC3)! As the premier event for security architects\, cloud-native engineers\, and C-suite leaders\, OC3 2026 offers a hybrid experience featuring high-impact technical sessions and real-world deployment demonstrations. \nWhether you are a seasoned researcher or a developer new to the field\, you’ll gain invaluable insights from industry experts. Plus\, don’t miss our dedicated pre-event focusing on transformative use cases for AI and Confidential Computing in healthcare and the public sector. \nDon’t miss CCC’s session: \nRegulations and standards for Confidential Computing – Mike Bursell\, Executive Director of Confidential Computing Consortium \nIndustry recognition of Confidential Computing has risen significantly and there is availability in public and private clouds: what is next? One of the ways to drive demand for CC solutions is via regulations and standards. This session introduces some of the ways this is happening and discusses some of the options for the future – and ways for individuals and organisations to get involved.
URL:https://confidentialcomputing.io/event/open-confidential-computing-conference-2/
LOCATION:CA
ATTACH;FMTTYPE=image/png:https://confidentialcomputing.io/wp-content/uploads/sites/10/2026/03/Screenshot-2026-03-03-at-4.04.26-PM.png
END:VEVENT
END:VCALENDAR