BEGIN:VCALENDAR
VERSION:2.0
PRODID:-//Confidential Computing Consortium - ECPv6.15.20//NONSGML v1.0//EN
CALSCALE:GREGORIAN
METHOD:PUBLISH
X-ORIGINAL-URL:https://confidentialcomputing.io
X-WR-CALDESC:Events for Confidential Computing Consortium
REFRESH-INTERVAL;VALUE=DURATION:PT1H
X-Robots-Tag:noindex
X-PUBLISHED-TTL:PT1H
BEGIN:VTIMEZONE
TZID:America/Los_Angeles
BEGIN:DAYLIGHT
TZOFFSETFROM:-0800
TZOFFSETTO:-0700
TZNAME:PDT
DTSTART:20250309T100000
END:DAYLIGHT
BEGIN:STANDARD
TZOFFSETFROM:-0700
TZOFFSETTO:-0800
TZNAME:PST
DTSTART:20251102T090000
END:STANDARD
BEGIN:DAYLIGHT
TZOFFSETFROM:-0800
TZOFFSETTO:-0700
TZNAME:PDT
DTSTART:20260308T100000
END:DAYLIGHT
BEGIN:STANDARD
TZOFFSETFROM:-0700
TZOFFSETTO:-0800
TZNAME:PST
DTSTART:20261101T090000
END:STANDARD
BEGIN:DAYLIGHT
TZOFFSETFROM:-0800
TZOFFSETTO:-0700
TZNAME:PDT
DTSTART:20270314T100000
END:DAYLIGHT
BEGIN:STANDARD
TZOFFSETFROM:-0700
TZOFFSETTO:-0800
TZNAME:PST
DTSTART:20271107T090000
END:STANDARD
END:VTIMEZONE
BEGIN:VEVENT
DTSTART;VALUE=DATE:20260623
DTEND;VALUE=DATE:20260625
DTSTAMP:20260421T133236
CREATED:20260331T080132Z
LAST-MODIFIED:20260331T080132Z
UID:10000036-1782172800-1782345599@confidentialcomputing.io
SUMMARY:Confidential Computing Summit 2026
DESCRIPTION:The Confidential Computing Summit convenes the global ecosystem advancing secure AI infrastructure. Bringing together enterprise leaders\, technologists\, and policymakers\, the Summit explores the technologies\, standards\, and real-world implementations powering privacy-preserving\, production-ready AI.
URL:https://confidentialcomputing.io/event/confidential-computing-summit-2026/
LOCATION:San Francisco Mint\, 88 5th St\, San Francisco\, CA\, 94103\, United States
ATTACH;FMTTYPE=image/svg+xml:https://confidentialcomputing.io/wp-content/uploads/sites/10/2026/03/cc_summit_black.svg
END:VEVENT
END:VCALENDAR